BEGIN:VCALENDAR
VERSION:2.0
PRODID:-//clubMINI Queensland - ECPv5.3.2.1//NONSGML v1.0//EN
CALSCALE:GREGORIAN
METHOD:PUBLISH
X-WR-CALNAME:clubMINI Queensland
X-ORIGINAL-URL:https://clubminiqld.com.au
X-WR-CALDESC:Events for clubMINI Queensland
BEGIN:VTIMEZONE
TZID:Australia/Brisbane
BEGIN:STANDARD
TZOFFSETFROM:+1000
TZOFFSETTO:+1000
TZNAME:AEST
DTSTART:20160101T000000
END:STANDARD
END:VTIMEZONE
BEGIN:VEVENT
DTSTART;TZID=Australia/Brisbane:20160911T073000
DTEND;TZID=Australia/Brisbane:20160911T150000
DTSTAMP:20210301T140437
CREATED:20160404T051137Z
LAST-MODIFIED:20160804T040549Z
UID:574-1473579000-1473606000@clubminiqld.com.au
SUMMARY:2016 MINI Muster
DESCRIPTION:Come down and join ClubMINI at the 2016 Mini Muster held by the Mini Owners Club of Queensland. \nThere will be a large number of BMC and Minis on display as well as a show & shine competition. Click here for more details.
URL:https://clubminiqld.com.au/event/2016-mini-muster/
CATEGORIES:Show & Shine
ATTACH;FMTTYPE=image/jpeg:https://clubminiqld.com.au/wp-content/uploads/2016/04/Qld_Mini_Muster___Sun_08_Sep_2013___Sincrow_7706336.jpg
END:VEVENT
END:VCALENDAR