BEGIN:VCALENDAR
VERSION:2.0
PRODID:-//clubMINI Queensland - ECPv5.3.2.1//NONSGML v1.0//EN
CALSCALE:GREGORIAN
METHOD:PUBLISH
X-WR-CALNAME:clubMINI Queensland
X-ORIGINAL-URL:https://clubminiqld.com.au
X-WR-CALDESC:Events for clubMINI Queensland
BEGIN:VTIMEZONE
TZID:Australia/Brisbane
BEGIN:STANDARD
TZOFFSETFROM:+1000
TZOFFSETTO:+1000
TZNAME:AEST
DTSTART:20170101T000000
END:STANDARD
END:VTIMEZONE
BEGIN:VEVENT
DTSTART;VALUE=DATE:20171002
DTEND;VALUE=DATE:20171011
DTSTAMP:20210301T135109
CREATED:20170601T071014Z
LAST-MODIFIED:20170625T230843Z
UID:893-1506902400-1507679999@clubminiqld.com.au
SUMMARY:Blue Mountains Run (with ClubMINI Vic)
DESCRIPTION:In October\, clubMINI Vic is going to the Blue Mountains – and clubMINI Qld is invited! We are sorting out a 9 day road trip\, then we will have 4 days in and around the Blue Mountains\, then head over Mt Panorama at Bathurst on the way home. The trip is for clubMINI members (including partners and children). \nCosts are mainly your accommodation\, fuel and food costs\, spent as we go along. There will be a $20 registration fee closer to the time\, to cover printing and organisational costs. \nIf you have any other questions\, just ask!
URL:https://clubminiqld.com.au/event/blue-mountains-run-with-clubmini-vic/
LOCATION:Blue Mountains\, Blue Mountains\, NSW\, Australia
ATTACH;FMTTYPE=image/jpeg:https://clubminiqld.com.au/wp-content/uploads/2017/06/BlueMountains.jpg
ORGANIZER;CN="ClubMINI%20Victoria":MAILTO:events@vic.clubmini.com.au
END:VEVENT
END:VCALENDAR