BEGIN:VCALENDAR
VERSION:2.0
PRODID:-//clubMINI Queensland - ECPv5.3.2.1//NONSGML v1.0//EN
CALSCALE:GREGORIAN
METHOD:PUBLISH
X-WR-CALNAME:clubMINI Queensland
X-ORIGINAL-URL:https://clubminiqld.com.au
X-WR-CALDESC:Events for clubMINI Queensland
BEGIN:VTIMEZONE
TZID:Australia/Brisbane
BEGIN:STANDARD
TZOFFSETFROM:+1000
TZOFFSETTO:+1000
TZNAME:AEST
DTSTART:20170101T000000
END:STANDARD
END:VTIMEZONE
BEGIN:VEVENT
DTSTART;TZID=Australia/Brisbane:20171210T080000
DTEND;TZID=Australia/Brisbane:20171210T170000
DTSTAMP:20210301T135118
CREATED:20171108T034702Z
LAST-MODIFIED:20171108T034756Z
UID:1164-1512892800-1512925200@clubminiqld.com.au
SUMMARY:clubMINI Christmas
DESCRIPTION:Welcome to ClubMINI christmas break up! We are going to sommerset dam\, so sit back and relax by the water. \nThe club will provide a light lunch for all. Tom will be bringing his jetski and towables\, and feel free to bring your own summer activities. \nThere will be a common start point located in Samford village (click here for a map) with a drive up Mount Glourious and down into Summerset. \nMake sure you bring a chair\, hat\, swimmers\, sun screen\, water and nibbels! All ClubMINI members and their family are welcome to join us! \nArrive at Samford village at 8:00 for an 8:20 departure.
URL:https://clubminiqld.com.au/event/clubmini-christmas/
LOCATION:Somerset Dam\, Somerset Dam\, Queensland\, 4312
CATEGORIES:Drive Day,Social Event
ATTACH;FMTTYPE=image/jpeg:https://clubminiqld.com.au/wp-content/uploads/2017/11/Somerset.jpg
END:VEVENT
END:VCALENDAR