BEGIN:VCALENDAR
VERSION:2.0
PRODID:-//clubMINI Queensland - ECPv5.3.2.1//NONSGML v1.0//EN
CALSCALE:GREGORIAN
METHOD:PUBLISH
X-WR-CALNAME:clubMINI Queensland
X-ORIGINAL-URL:https://clubminiqld.com.au
X-WR-CALDESC:Events for clubMINI Queensland
BEGIN:VTIMEZONE
TZID:Australia/Brisbane
BEGIN:STANDARD
TZOFFSETFROM:+1000
TZOFFSETTO:+1000
TZNAME:AEST
DTSTART:20180101T000000
END:STANDARD
END:VTIMEZONE
BEGIN:VEVENT
DTSTART;TZID=Australia/Brisbane:20180224T110000
DTEND;TZID=Australia/Brisbane:20180224T170000
DTSTAMP:20210301T135209
CREATED:20180123T095307Z
LAST-MODIFIED:20180123T095307Z
UID:1268-1519470000-1519491600@clubminiqld.com.au
SUMMARY:MINI Hooligans at Harrigan's
DESCRIPTION:This event will be at Harrigan’s Irish Pub in Jacob’s Well.  Our table is booked for 12PM in the Gazebo. http:// harrigansdriftinn.com.au/ \nMEETING POINT\nBP Stapylton (Parking around the back in caravan area)\n11am for an 11:30 departure.\nMap link here. \nOur route to Harrigan’s taking Stapylton Jacobs Well Rd and Norwell Rd to Huth Rd in Jacobs Well\nRoute Map link here. \nPlease confirm your attendance by Midday on Friday 23rd. \n        \n        \n        \n\n\n    \n    \n        \n        \n    \n    \n\n\n\n  Security Code:\n  \n  Please enter the security code:\n  \n  Please enter a valid captcha code.\n    \n\n\n\nSubmit
URL:https://clubminiqld.com.au/event/mini-hooligans-at-harrigans/
LOCATION:Harrigan’s Irish Pub\, Harrigan's Lane\, Jacobs Well\, Queensland\, 4208\, Australia
CATEGORIES:Drive Day
ATTACH;FMTTYPE=image/jpeg:https://clubminiqld.com.au/wp-content/uploads/2018/01/IrishMini.jpg
END:VEVENT
END:VCALENDAR