BEGIN:VCALENDAR
VERSION:2.0
PRODID:-//clubMINI Queensland - ECPv5.3.2.1//NONSGML v1.0//EN
CALSCALE:GREGORIAN
METHOD:PUBLISH
X-WR-CALNAME:clubMINI Queensland
X-ORIGINAL-URL:https://clubminiqld.com.au
X-WR-CALDESC:Events for clubMINI Queensland
BEGIN:VTIMEZONE
TZID:Australia/Brisbane
BEGIN:STANDARD
TZOFFSETFROM:+1000
TZOFFSETTO:+1000
TZNAME:AEST
DTSTART:20180101T000000
END:STANDARD
END:VTIMEZONE
BEGIN:VEVENT
DTSTART;TZID=Australia/Brisbane:20180204T093000
DTEND;TZID=Australia/Brisbane:20180204T113000
DTSTAMP:20210301T135251
CREATED:20171220T014753Z
LAST-MODIFIED:20180123T035911Z
UID:1214-1517736600-1517743800@clubminiqld.com.au
SUMMARY:MINIs and Coffee
DESCRIPTION:Come and have a chat and a beverage. This is a regular social gathering to enjoy a chat with fellow ClubMINI members whilst exploring new and varied cafes..
URL:https://clubminiqld.com.au/event/minis-and-coffee-3/
LOCATION:Coffee Club Springwood\, Shop 2\, 63-65 Springwood Rd\, Springwood\, Queensland\, Australia
CATEGORIES:Social Event
ATTACH;FMTTYPE=image/jpeg:https://clubminiqld.com.au/wp-content/uploads/2017/02/MiniCoffee.jpg
END:VEVENT
END:VCALENDAR