BEGIN:VCALENDAR
VERSION:2.0
PRODID:-//clubMINI Queensland - ECPv5.3.2.1//NONSGML v1.0//EN
CALSCALE:GREGORIAN
METHOD:PUBLISH
X-WR-CALNAME:clubMINI Queensland
X-ORIGINAL-URL:https://clubminiqld.com.au
X-WR-CALDESC:Events for clubMINI Queensland
BEGIN:VTIMEZONE
TZID:Australia/Brisbane
BEGIN:STANDARD
TZOFFSETFROM:+1000
TZOFFSETTO:+1000
TZNAME:AEST
DTSTART:20180101T000000
END:STANDARD
END:VTIMEZONE
BEGIN:VEVENT
DTSTART;TZID=Australia/Brisbane:20180211T130000
DTEND;TZID=Australia/Brisbane:20180211T170000
DTSTAMP:20210301T135259
CREATED:20180123T041420Z
LAST-MODIFIED:20180208T021124Z
UID:1262-1518354000-1518368400@clubminiqld.com.au
SUMMARY:Sizzle It Just A Little Bit - Cancelled :(
DESCRIPTION:Sorry folks due to a lack of numbers we have had to cancel this one. Keep an eye out for future BBQs. \nIt’ time to get sizzling.  Join us for a short drive from Mt Cootha via a few twisties to Hamilton\, and some snags! A great afternoon out.The club will be providing sausages\, bread rolls\, sauce\, onions. Afterwards for those that want to stick around the Eat St Markets will be open until 7pm. \nPlease bring: \n\nDrinks\nSmall snack or share plate\nChairs\n\nMEETING POINT\n1:30PM – Departing at 2PM sharp\nGrey Gum Picnic Area – Mt Cootha (Next to Channel 7)\n570 Sir Samuel Griffith Dr\, Mount Coot-Tha QLD 4066\nMap Link here. \nBBQ VENUE\nWe will be having the BBQ at Northshore Riverside Park in Hamilton on Macarthur Ave. \nPlease RSVP before 9th of February. \n        \n        \n        \n\n\n    \n    \n        \n        \n    \n    \n\n\n\n  Security Code:\n  \n  Please enter the security code:\n  \n  Please enter a valid captcha code.\n    \n\n\n\nSubmit
URL:https://clubminiqld.com.au/event/sizzle-it-just-a-little-bit/
LOCATION:Northshore Riverside Park\, 290 Macarthur Ave\, Hamilton\, Queensland\, 4007\, Australia
CATEGORIES:Drive Day,Social Event
ATTACH;FMTTYPE=image/png:https://clubminiqld.com.au/wp-content/uploads/2017/05/MiniBBQ.png
END:VEVENT
END:VCALENDAR